BEGIN:VCALENDAR
VERSION:2.0
PRODID:-//BDSM Relationships &amp; Education - ECPv6.0.6.2//NONSGML v1.0//EN
CALSCALE:GREGORIAN
METHOD:PUBLISH
X-WR-CALNAME:BDSM Relationships &amp; Education
X-ORIGINAL-URL:http://msmorganthorne.com
X-WR-CALDESC:Events for BDSM Relationships &amp; Education
REFRESH-INTERVAL;VALUE=DURATION:PT1H
X-Robots-Tag:noindex
X-PUBLISHED-TTL:PT1H
BEGIN:VTIMEZONE
TZID:America/Toronto
BEGIN:DAYLIGHT
TZOFFSETFROM:-0500
TZOFFSETTO:-0400
TZNAME:EDT
DTSTART:20240310T070000
END:DAYLIGHT
BEGIN:STANDARD
TZOFFSETFROM:-0400
TZOFFSETTO:-0500
TZNAME:EST
DTSTART:20241103T060000
END:STANDARD
END:VTIMEZONE
BEGIN:VEVENT
DTSTART;VALUE=DATE:20241018
DTEND;VALUE=DATE:20241022
DTSTAMP:20260422T130341
CREATED:20240901T194132Z
LAST-MODIFIED:20240901T194132Z
UID:8105-1729220400-1729479599@msmorganthorne.com
SUMMARY:Taboo "Everything to do With Sex Show" Toronto
DESCRIPTION:Dive into a world where boundaries fade\, and excitement takes center stage! The Taboo Shows is your passport to Canadas most thrilling adult entertainment experience\, combining the best in products\, performances\, and innovation. From tantalizing vendors to captivating performances\, we curate an event that celebrates diversity\, inclusivity\, healthy\, the extraordinary and all things Sexy! \nMorgan Thorne & Sage Noir Art and Kronic Sensations Present the Kinky Side Show Photo Booth!\nWelcome to a world where the dungeon meets the circus\, where sexy meets sideshow. The Kinky Sideshow Photo Booth encourages you to explore your dark side. Play in our dungeon\, decorated for a Halloween carnival. Get some tantalizing tips and tricks from our ringmasters on how to enhance your BDSM experience. Try out our equipment and toys while enjoying the scary yet sultry atmosphere. And remember – pictures\, or it didn’t happen!  \nShow Hours:\nFriday: 5:00 PM – Midnight \nSaturday: 1:00 PM – Midnight \nSunday: 12:00 PM – 5:00 PM \nMorgan Thorne’s Seminars:\nTime & Subjects TBA
URL:http://msmorganthorne.com/events/taboo-everything-to-do-with-sex-show-toronto/
LOCATION:Enercare Centre\, 100 Princes' Blvd #1\, Toronto\, on\, M6K 3C3\, Canada
CATEGORIES:Beginner BDSM,Kink Outreach,Public Dungeons,Toronto Events,Vendor Markets
ATTACH;FMTTYPE=image/webp:http://msmorganthorne.com/wp-content/uploads/2024/09/rsw_1280h_720.webp
ORGANIZER;CN="CanWest%20Productions":MAILTO:taboo@canwestproductions.com
END:VEVENT
BEGIN:VEVENT
DTSTART;TZID=America/Toronto:20241029T190000
DTEND;TZID=America/Toronto:20241029T210000
DTSTAMP:20260422T130341
CREATED:20240901T183452Z
LAST-MODIFIED:20240901T183452Z
UID:8065-1730228400-1730235600@msmorganthorne.com
SUMMARY:BDSM Basics - LIVE Online Class October 29\, 2024 @ 7PM EST
DESCRIPTION:Brand new to BDSM but don’t know where to start? \nThe BDSM Basics Workshop gives you an overview of what’s involved in the exciting world of kink. Begin by learning some basic terminology about the different types of dynamics. Find out how to explore your options and discover what appeals to you. Get some tips and tricks on incorporating BDSM into your already existing relationship(s)\, or find an already kinky partner. \nNext\, we start some hands-on learning about play. Discover common desires with your partner(s) through a short BDSM checklist. We will discuss the basics of negotiation and the importance of informed consent so that you and your partner(s) feel more comfortable talking about kink. \nPrepare to get your hands “dirty” as we learn some valuable sensual spanking techniques and how to structure a scene. Finally\, it’s time to break out the rope! Learn a few practical\, simple bondage techniques that anyone can do. Of course\, bondage safety is an integral part of learning BDSM\, and participants will gain a solid understanding of basic bondage & rope safety. \nRecording:\nIf you cannot attend the live class\, it will be recorded. The recording\, slides\, and any links or other resources discussed in class will be sent to all ticket holders. Only my feed and the presentation are recorded; none of the participants are recorded\, and the chat is not recorded. The class recording is only available to ticket holders. \nWorkshop Access:\nTickets are on sale until 30 minutes before class begins. You will be sent the Webex link 24 hours before the start of class. Please check your spam folders if you do not see it. The email is sent automatically and can sometimes get caught in your inbox filters. \nPresenter Bio:\nMorgan Thorne has been practising BDSM all her adult life. She got an introduction to kink through the Queer community in the early 1990s and knew she had found ‘her people.’ \nMorgan has also spent a decade working as a Professional Dominant\, which has allowed her to expand her skills as both a Top and a Dominant. Morgan has offered workshops\, lectures\, and BDSM training for several years. She has a successful YouTube channel where she educates about D/s relationships\, BDSM basics and various kinky skills. \nShe is the author of three successful books about BDSM\, including “Exploring BDSM: A Workbook for Couples (or More!) Discovering Kink“. More books to come! \nMorgan identifies as both a Sadist and a Dominant. She enjoys playing with various people of all orientations/genders/identities. BDSM is an integral part of her personal\, romantic relationships. Morgan is both asexual and pan-romantic. \nBefore her work as a Professional Dominant\, Morgan worked in health care. This has allowed her to gain a more thorough understanding of health and safety concerns in kink. She retired due to an injury that led to chronic pain and disability. It also spurred her interest in medical play\, a way to continue using the skills she learned in health care and find comfort in losing a much-loved career. \nMorgan has been active in various forms of activism\, including LGBTQIA rights and sex worker rights. She strongly advocates for equality and the human rights of all people.
URL:http://msmorganthorne.com/events/bdsm-basics-live-online-class-october-29-2024-7pm-est/
LOCATION:Online
CATEGORIES:Beginner BDSM,Bondage Class,Online Workshop,Power Exchange Relationships
ATTACH;FMTTYPE=image/png:http://msmorganthorne.com/wp-content/uploads/2024/09/BDSM-Basics-July-28.png
ORGANIZER;CN="Morgan%20Thorne":MAILTO:msmorganthorne@gmail.com
END:VEVENT
END:VCALENDAR