BEGIN:VCALENDAR
VERSION:2.0
PRODID:-//BDSM Relationships &amp; Education - ECPv6.0.6.2//NONSGML v1.0//EN
CALSCALE:GREGORIAN
METHOD:PUBLISH
X-ORIGINAL-URL:http://msmorganthorne.com
X-WR-CALDESC:Events for BDSM Relationships &amp; Education
REFRESH-INTERVAL;VALUE=DURATION:PT1H
X-Robots-Tag:noindex
X-PUBLISHED-TTL:PT1H
BEGIN:VTIMEZONE
TZID:America/Toronto
BEGIN:DAYLIGHT
TZOFFSETFROM:-0500
TZOFFSETTO:-0400
TZNAME:EDT
DTSTART:20240310T070000
END:DAYLIGHT
BEGIN:STANDARD
TZOFFSETFROM:-0400
TZOFFSETTO:-0500
TZNAME:EST
DTSTART:20241103T060000
END:STANDARD
END:VTIMEZONE
BEGIN:VEVENT
DTSTART;TZID=America/Toronto:20241114T190000
DTEND;TZID=America/Toronto:20241114T210000
DTSTAMP:20260419T120948
CREATED:20240901T184000Z
LAST-MODIFIED:20240901T184000Z
UID:8071-1731610800-1731618000@msmorganthorne.com
SUMMARY:Wax Play 101 - Online Class LIVE! - November 14\, 2024
DESCRIPTION:Hot wax dripping over your partner’s naked\, vulnerable flesh will send shivers of excitement down their spine and a rush of warmth over their skin – nothing more – as you both enjoy the relaxing flickering of the candlelight. \nLearn about the different types of wax acceptable for wax play\, what types can be used for advanced players and what types should be avoided altogether. We will also discuss other sensation techniques to enhance the wax play experience\, including other forms of temperature play\, bladed scrapers to remove wax and more. \nSafety considerations will feature prominently in the discussions\, as well as a thorough understanding of the skin and how heat affects it. We will also cover emergency burn care so you know what to do when things go wrong. \nLive demos will follow a lecture-style portion of the class. \nRecording: \nIf you cannot attend the live class\, it will be recorded. The recording\, slides\, and any links or other resources discussed in class will be sent to all ticket holders. Only my feed and the presentation are recorded\, none of the participants are recorded\, the chat is not recorded. The class recording is only available to ticket holders and will not be available to anyone else. \nWorkshop Access: \nTickets are on sale until 30 minutes before class begins. \nYou will be sent the Webex link 24 hours before the start of class. If you do not see it\, please check your spam folders. The email can sometimes get caught in your inbox filters. \nPresenter Bio: \nMorgan Thorne has been practising BDSM all her adult life. She got an introduction to kink through the Queer community in the early 1990s and knew she had found ‘her people.’ \nMorgan has also spent a decade working as a Professional Dominant\, which has allowed her to expand her skills as both a Top and a Dominant. Morgan has offered workshops\, lectures\, and BDSM training for several years. She has a successful YouTube channel where she educates about D/s relationships\, BDSM basics and various kinky skills. \nShe is the author of two successful books about BDSM\, including “Exploring BDSM: A Workbook for Couples (or More!) Discovering Kink“. A follow-up book is expected in early 2021. \nMorgan identifies as both a Sadist and a Dominant. She enjoys playing with various people of all orientations/genders/identities. BDSM is an integral part of her personal\, romantic relationships. Morgan is both asexual and pan-romantic. \nBefore her work as a Professional Dominant\, Morgan worked in health care. This has allowed her to gain a more thorough understanding of health and safety concerns in kink. She retired due to an injury that led to chronic pain and disability. It also spurred her interest in medical play\, a way to continue to use the skills she learned in health care and to find comfort in the loss of a much-loved career. \nMorgan has been active in various forms of activism\, including LGBTQIA rights and sex worker rights. She strongly advocates for equality and the human rights of all people.
URL:http://msmorganthorne.com/events/wax-play-101-online-class-live-november-14-2024/
LOCATION:Online
CATEGORIES:Beginner BDSM,Intermediate BDSM,Online Workshop,Sensation Play Workshops,Sensual BDSM Workshops
ATTACH;FMTTYPE=image/png:http://msmorganthorne.com/wp-content/uploads/2024/09/wax-december.png
ORGANIZER;CN="Morgan%20Thorne":MAILTO:msmorganthorne@gmail.com
END:VEVENT
BEGIN:VEVENT
DTSTART;TZID=America/Toronto:20241121T190000
DTEND;TZID=America/Toronto:20241121T210000
DTSTAMP:20260419T120948
CREATED:20240901T182651Z
LAST-MODIFIED:20240901T182651Z
UID:8054-1732215600-1732222800@msmorganthorne.com
SUMMARY:Pussy Torture 101 - Online Class LIVE! - November 21\, 2024
DESCRIPTION:Internal genitalia presents some unique challenges and opportunities for torture and torment. Understanding the anatomy of the vulva is key to maximizing your ability to cause squirming (of the good variety). \nIn this Pussy Torture Workshop\, we will discuss various features of the anatomy of the vulva\, which are of interest and how to inflict pain without damage. We will first undertake the anatomy lesson you should have had in school to understand the vulva better. We will endeavour to find the ‘elusive’ clitoris (spoiler alert: it’s rather hard to miss). We will learn the difference between the vagina and all the rest. \nWe then move on to the fun parts: the practical application of knowledge. We will discuss and see examples of different ways to clamp\, hit\, stretch\, crush and use temperature to do terrible things to pussies that the people they are attached to will love to hate (or the other way around\, I can never remember). We will talk about the use of household ‘pervertibles’ as well as commercially available toys so that pussy torture can be economically accessible to everyone. \nThe Pussy Torture Workshop is presented in gender-neutral terms in recognition that not all people who have vulvas are women. This class is a safe space for LGBTQA people; attendees must respect that. \nRecording: \nIf you cannot attend the live class\, it will be recorded. The recording\, slides\, and any links or other resources discussed in class will be sent to all ticket holders. Only my feed and the presentation are recorded\, none of the participants are recorded\, the chat is not recorded. The class recording is only available to ticket holders and will not be available to anyone else. \nWorkshop Access: \nTickets are on sale until 30 minutes before class begins. \nYou will be sent the Webex link 24 hours before the start of class. If you do not see it\, please check your spam folders. The email can sometimes get caught in your inbox filters. \nPresenter Bio: \nMorgan Thorne has been practising BDSM all her adult life. She got an introduction to kink through the Queer community in the early 1990s and knew she had found ‘her people.’ \nMorgan has also spent a decade working as a Professional Dominant\, which has allowed her to expand her skills as both a Top and a Dominant. Morgan has offered workshops\, lectures\, and BDSM training for several years. She has a successful YouTube channel where she educates about D/s relationships\, BDSM basics and various kinky skills. \nShe is the author of two successful books about BDSM\, including “Exploring BDSM: A Workbook for Couples (or More!) Discovering Kink“. A follow-up book is expected in early 2021. \nMorgan identifies as both a Sadist and a Dominant. She enjoys playing with various people of all orientations/genders/identities. BDSM is an integral part of her personal\, romantic relationships. Morgan is both asexual and pan-romantic. \nBefore her work as a Professional Dominant\, Morgan worked in health care. This has allowed her to gain a more thorough understanding of health and safety concerns in kink. She retired due to an injury that led to chronic pain and disability. It also spurred her interest in medical play\, a way to continue to use the skills she learned in health care and to find comfort in the loss of a much-loved career. \nMorgan has been active in various forms of activism\, including LGBTQIA rights and sex worker rights. She strongly advocates for equality and the human rights of all people. \n\nShare
URL:http://msmorganthorne.com/events/pussy-torture-101-online-class-live-november-21-2024/
LOCATION:Online
CATEGORIES:Beginner BDSM,Genital Torture,Impact Play,Intermediate BDSM,Online Workshop,Sensation Play Workshops,Sensual BDSM Workshops,Sexual BDSM Play,Taboo Kink
ATTACH;FMTTYPE=image/png:http://msmorganthorne.com/wp-content/uploads/2024/09/PT-Apr-6.png
ORGANIZER;CN="Morgan%20Thorne":MAILTO:msmorganthorne@gmail.com
END:VEVENT
END:VCALENDAR