BEGIN:VCALENDAR
VERSION:2.0
PRODID:-//BDSM Relationships &amp; Education - ECPv6.0.6.2//NONSGML v1.0//EN
CALSCALE:GREGORIAN
METHOD:PUBLISH
X-WR-CALNAME:BDSM Relationships &amp; Education
X-ORIGINAL-URL:http://msmorganthorne.com
X-WR-CALDESC:Events for BDSM Relationships &amp; Education
REFRESH-INTERVAL;VALUE=DURATION:PT1H
X-Robots-Tag:noindex
X-PUBLISHED-TTL:PT1H
BEGIN:VTIMEZONE
TZID:America/Toronto
BEGIN:DAYLIGHT
TZOFFSETFROM:-0500
TZOFFSETTO:-0400
TZNAME:EDT
DTSTART:20240310T070000
END:DAYLIGHT
BEGIN:STANDARD
TZOFFSETFROM:-0400
TZOFFSETTO:-0500
TZNAME:EST
DTSTART:20241103T060000
END:STANDARD
END:VTIMEZONE
BEGIN:VEVENT
DTSTART;TZID=America/Toronto:20241201T130000
DTEND;TZID=America/Toronto:20241201T180000
DTSTAMP:20260419T183641
CREATED:20240901T201143Z
LAST-MODIFIED:20240901T201143Z
UID:8126-1733058000-1733076000@msmorganthorne.com
SUMMARY:Twisted Events - Bad Santa Play Party
DESCRIPTION:It’s that time of the year again!\nWhere are all the Bad Santas & Grinches?\nWe’re lookin’ for You cuz we have tons of bottoms\, littles & middles on Your naughty list. \nBad Santas\, its your time of the year to give out Your yearly funishments & to leave marks on those on Your list … we know a few \nInclusive Luxurious Fetish \nTotal TakeOver Vibes\nKinkyFuckery play throughout the venue \nBDSM Dungeon (2pm-6:30)\nCrosses • Spanking Benches • Massage Table • Cage • Rough Body Play Zone \nSuspension Areas\nDedicated Rope Space • Multiple Single Points • Bamboo Suspensions • Hashira \nEdge Play Positive\nFire play • Wax • Electro • Rope (Ground/Air) • Struggle/Rough Body play • Medical\n(must happen in designated play areas) \nSex Positive\nBYOBarriers \nCuddle Puddle Huddle Zone\n(5pm to 7pm sharp)\nBYOGear Pillows\, Blankets\, Stuffies\, and Wands etc • WaterProof if Required \n‘n so much more\n1st Players get Twisted Bucks\nGet the party started and earn $5 voucher off a future door fee \n3rd Annual MisFit Toy Drive\nIt’s time to give back for all of the Kinky privileges we’ve enjoyed this year with the 3rd Annual Twisted Toy Drive!\nAll donations will be distributed thru Toys For Tots Canada. Please only donate what you can. A donation is not mandatory. \nCookies ‘n Milk AfterCare Bar 🍪🥛\n⏰️ 5pm Main bar
URL:http://msmorganthorne.com/events/twisted-events-bad-santa-play-party/
LOCATION:Club ProAE\, 170 Doughton Road\, Vaughn\, on\, Canada
CATEGORIES:BDSM Convention & Party,Public Dungeons,Toronto Events,Vendor Markets
END:VEVENT
BEGIN:VEVENT
DTSTART;TZID=America/Toronto:20241221T110000
DTEND;TZID=America/Toronto:20241221T200000
DTSTAMP:20260419T183641
CREATED:20241129T212838Z
LAST-MODIFIED:20241129T212838Z
UID:12587-1734778800-1734811200@msmorganthorne.com
SUMMARY:Bazaar of the Bizarre - Frost Bite
DESCRIPTION:Our last event of the year! Get your spooky and dark Xmas presents at our amazing marketplace.\nA handmade marketplace/art show for all things different\, independent and Canadian-made. Not your typical Christmas show – The Bazaar of the Bizarre brings you arts\, fashion and crafts that are different\, interesting\, weird\, strange\, one-of-a-kind\, macabre\, whimsical or just things to flip your brain out! Full on with entertaining DJ’s\, magicians\, dancers\, and other oddities!\nSaturday December 21st/2024Open to the public from 11am – 8pmThe Parkdale Hall\, 1605 Queen st. West\nFacebook Event\nInstagram——————————————————————-The bazaar remains a true Bazaar of the Bizarre\, open to the public with free admission\, showcasing a wide variety of independent artists\, designers\, and crafters. With our usual entertainment of dancers\, stilt walkers DJ’s and magicians. FREE for public to attend!
URL:http://msmorganthorne.com/events/bazaar-of-the-bizarre-frost-bite/
LOCATION:Parkdale Hall\, 1605 Queen st. West\, Toronto\, ontario\, M6R 1A9\, Canada
CATEGORIES:Toronto Events,Vendor Markets
ATTACH;FMTTYPE=image/jpeg:http://msmorganthorne.com/wp-content/uploads/2024/11/BazaaroftheBizarre_DEC2024.jpg
END:VEVENT
END:VCALENDAR