BEGIN:VCALENDAR
VERSION:2.0
PRODID:-//BDSM Relationships &amp; Education - ECPv6.0.6.2//NONSGML v1.0//EN
CALSCALE:GREGORIAN
METHOD:PUBLISH
X-ORIGINAL-URL:http://msmorganthorne.com
X-WR-CALDESC:Events for BDSM Relationships &amp; Education
REFRESH-INTERVAL;VALUE=DURATION:PT1H
X-Robots-Tag:noindex
X-PUBLISHED-TTL:PT1H
BEGIN:VTIMEZONE
TZID:America/Toronto
BEGIN:DAYLIGHT
TZOFFSETFROM:-0500
TZOFFSETTO:-0400
TZNAME:EDT
DTSTART:20240310T070000
END:DAYLIGHT
BEGIN:STANDARD
TZOFFSETFROM:-0400
TZOFFSETTO:-0500
TZNAME:EST
DTSTART:20241103T060000
END:STANDARD
END:VTIMEZONE
BEGIN:VEVENT
DTSTART;VALUE=DATE:20241011
DTEND;VALUE=DATE:20241015
DTSTAMP:20260419T233208
CREATED:20240901T193132Z
LAST-MODIFIED:20240901T193132Z
UID:8098-1728615600-1728874799@msmorganthorne.com
SUMMARY:Toronto Halloween Show
DESCRIPTION:The Toronto Halloween Show is one of Ontario’s largest consumer shows for “All Things Halloween.” \nVisit us at The Warehouse Venue at Downsview Park and shop with our vendors for all your Halloween needs\, from in-home and outdoor décor to costumes\, makeup\, and everything in between. \nShow Times \n\n\n\n\nFri. Oct. 11th 4:00 pm – 9:00 pm \n\n\n\n\n\n\n\n\nSat. Oct. 12th 10:00 am – 7:00 pm \n\n\n\n\n\n\n\n\n​Sun. Oct. 13th 10:00 am – 6:00 pm
URL:http://msmorganthorne.com/events/toronto-halloween-show/
LOCATION:The Warehouse at Downsview\, 35 Carl Hall Rd #2\, North York\, on\, M3K 2B6\, Canada
CATEGORIES:Toronto Events,Vendor Markets
ATTACH;FMTTYPE=image/png:http://msmorganthorne.com/wp-content/uploads/2024/09/Event-Promo.png
END:VEVENT
END:VCALENDAR