BEGIN:VCALENDAR
VERSION:2.0
PRODID:-//BDSM Relationships &amp; Education - ECPv6.0.6.2//NONSGML v1.0//EN
CALSCALE:GREGORIAN
METHOD:PUBLISH
X-WR-CALNAME:BDSM Relationships &amp; Education
X-ORIGINAL-URL:https://msmorganthorne.com
X-WR-CALDESC:Events for BDSM Relationships &amp; Education
REFRESH-INTERVAL;VALUE=DURATION:PT1H
X-Robots-Tag:noindex
X-PUBLISHED-TTL:PT1H
BEGIN:VTIMEZONE
TZID:America/Toronto
BEGIN:DAYLIGHT
TZOFFSETFROM:-0500
TZOFFSETTO:-0400
TZNAME:EDT
DTSTART:20240310T070000
END:DAYLIGHT
BEGIN:STANDARD
TZOFFSETFROM:-0400
TZOFFSETTO:-0500
TZNAME:EST
DTSTART:20241103T060000
END:STANDARD
END:VTIMEZONE
BEGIN:VEVENT
DTSTART;TZID=America/Toronto:20240919T190000
DTEND;TZID=America/Toronto:20240919T210000
DTSTAMP:20260421T140050
CREATED:20240901T182940Z
LAST-MODIFIED:20240901T182940Z
UID:8057-1726772400-1726779600@msmorganthorne.com
SUMMARY:Foot Torture & Bastinado - Live Online Class - September 19 2024
DESCRIPTION:Foot torture is a varied and intense form of play that appeals to a wide range of kinksters\, foot fetishists\, masochists\, and those just looking for something new and different. \nWe will begin with the foot’s anatomy to better understand the safety concerns surrounding this play. Foot torture has the potential to cause serious\, long-term damage if one isn’t careful. \nWe will explore different techniques to use on our bottom\, from traditional methods\, such as bastinado to other\, more modern approaches. Learn how to use a single technique or combine them for an interesting scene that will keep your bottom on their toes. \nElectrical play\, sensation\, tickling\, temperature\, and impact will be used to achieve the exquisite agony – or the giggly ouchies – you and your partner desire. Throw in a little bondage\, and you have the recipe for a fantastic Friday night! \nRecording: \nTickets are on sale until 30 minutes before class begins. \n24 hours before the start of class\, you will be sent the Webex link. Please check your spam folders if you do not see it. The email can sometimes get caught in your inbox filters. \nWorkshop Access: \nTickets are on sale until 30 minutes before class begins. When ticket sales close\, 30 minutes before the start of class\, you will be sent the Webex link. Please check your spam folders if you do not see it. The email is sent automatically and can sometimes get caught in your inbox filters. \nPresenter Bio: \nMorgan Thorne has been practising BDSM all her adult life. She got an introduction to kink through the Queer community in the early 1990s and knew she had found ‘her people’. \nMorgan has also spent a decade working as a Professional Dominant\, which has allowed her to expand her skills as both a Top and a Dominant. Morgan has been offering workshops\, lectures and BDSM training for a number of years as well. She has a successful Youtube channel where she educates about D/s relationships\, BDSM basics and various kinky skills. \nShe is the author of two successful books about BDSM\, including “Exploring BDSM: A Workbook for Couples (or More!) Discovering Kink“. A follow-up book is expected in early 2021. \nMorgan identifies as both a Sadist and a Dominant. She enjoys playing with a variety of people of all orientations/genders/identities. BDSM is an integral part of her personal\, romantic relationships. Morgan is both asexual and pan-romantic. \nPrior to her work as a Professional Dominant\, Morgan worked in health care. This has allowed her to gain a more thorough understanding of health and safety concerns in kink. She retired due to an injury that lead to chronic pain and disability. It also spurred her interest in medical play\, a way to continue to use the skills she learned in health care and to find comfort in the loss of a much-loved career. \nMorgan has been active in various forms of activism\, including LGBTQIA rights and sex worker rights. She is a strong advocate for equality and the human rights of all people.
URL:https://msmorganthorne.com/events/foot-torture-bastinado-live-online-class-september-19-2024/
LOCATION:Online
CATEGORIES:Beginner BDSM,Canes,Foot Fetish & Feet,Impact Play,Intermediate BDSM,Non-Sexual Kink,Online Workshop,Punishment vs Funishment
ATTACH;FMTTYPE=image/png:https://msmorganthorne.com/wp-content/uploads/2024/09/Foot-Torture-copy.png
ORGANIZER;CN="Morgan%20Thorne":MAILTO:msmorganthorne@gmail.com
END:VEVENT
END:VCALENDAR